BEGIN:VCALENDAR
VERSION:2.0
PRODID:-//eventon.com NONSGML v1.0//EN
CALSCALE:GREGORIAN
METHOD:PUBLISH
BEGIN:VEVENT
UID:69e5f18d526e2
DTSTAMP:20260420T092741Z
DTSTART:20241020
DTEND:20241021
LOCATION:
SUMMARY:6th Sunday of Luke
DESCRIPTION:Saints\,  Feasts\,  and Readings for 10/20/2024 Saints and Feas
 ts: 6th Sunday of Luke; Artemius the Great Martyr of Antioch; Matrona the R
 ighteous of Chios; Gerasimus of Cephalonia; Andronicus the Righteous Martyr
  Matins Gospel Reading: Luke 24:36-53 At that time\,  having risen from the
  dead\,  Jesus went up and stood among[..]\nhttps://saintandrewlubbock.com/
 events/6th-sunday-of-luke/
URL:https://saintandrewlubbock.com/events/6th-sunday-of-luke/
END:VEVENT
END:VCALENDAR