BEGIN:VCALENDAR
VERSION:2.0
PRODID:-//eventon.com NONSGML v1.0//EN
CALSCALE:GREGORIAN
METHOD:PUBLISH
BEGIN:VEVENT
UID:69e5f2dd5f418
DTSTAMP:20260420T093317Z
DTSTART:20241024
DTEND:20241025
LOCATION:
SUMMARY:Arethas the Great Martyr and His Fellow Martyrs
DESCRIPTION:Saints\,  Feasts\,  and Readings for 10/24/2024 Saints and Feas
 ts: Arethas the Great Martyr and His Fellow Martyrs; Sebastiane the Martyr;
  Maglorious of Sark Epistle Reading: Ephesians 5:33;6:1-9 Brethren\,  let e
 ach one of you love his wife as himself\,  and let the wife see that she re
 spects her husband. Children\,  obey[..]\nhttps://saintandrewlubbock.com/ev
 ents/arethas-the-great-martyr-and-his-fellow-martyrs/
URL:https://saintandrewlubbock.com/events/arethas-the-great-martyr-and-his-fellow-martyrs/
END:VEVENT
END:VCALENDAR