BEGIN:VCALENDAR
VERSION:2.0
PRODID:-//eventon.com NONSGML v1.0//EN
CALSCALE:GREGORIAN
METHOD:PUBLISH
BEGIN:VEVENT
UID:69e678e87f254
DTSTAMP:20260420T190512Z
DTSTART:20250107
DTEND:20250108
LOCATION:
SUMMARY:Synaxis of John the Holy Glorious Prophet\,  Baptist\,  & Forerunner
DESCRIPTION:Saints\,  Feasts\,  and Readings for 01/07/2025 Saints and Feas
 ts: Synaxis of John the Holy Glorious Prophet\,  Baptist\,  &#038; Forerunn
 er; Afterfeast of the Theophany of Our Lord and Saviour Jesus Christ; Cedd\
 ,  Bishop of Scotland; Fursey\,  Abbot of Lagny Epistle Reading: Acts 19:1-
 8 In those days\,  while Apollos was at Corinth\, [..]\nhttps://saintandrew
 lubbock.com/events/synaxis-of-john-the-holy-glorious-prophet-baptist-foreru
 nner-2/
URL:https://saintandrewlubbock.com/events/synaxis-of-john-the-holy-glorious-prophet-baptist-forerunner-2/
END:VEVENT
END:VCALENDAR