BEGIN:VCALENDAR
VERSION:2.0
PRODID:-//eventon.com NONSGML v1.0//EN
CALSCALE:GREGORIAN
METHOD:PUBLISH
BEGIN:VEVENT
UID:69e8fdbd68128
DTSTAMP:20260422T165629Z
DTSTART:20250112
DTEND:20250113
LOCATION:
SUMMARY:Sunday after Epiphany
DESCRIPTION:Saints\,  Feasts\,  and Readings for 01/12/2025 Saints and Feas
 ts: Sunday after Epiphany; Afterfeast of the Theophany of Our Lord and Savi
 our Jesus Christ; Tatiana the Martyr of Rome; Basil and John the Hieromarty
 rs; Martyr Mertios; Euthasia the Virgin-Martyr; Peter of Absalom; Benedict 
 Matins Gospel Reading: John 20:1-10 On the first[..]\nhttps://saintandrewlu
 bbock.com/events/sunday-after-epiphany/
URL:https://saintandrewlubbock.com/events/sunday-after-epiphany/
END:VEVENT
END:VCALENDAR