BEGIN:VCALENDAR
VERSION:2.0
PRODID:-//eventon.com NONSGML v1.0//EN
CALSCALE:GREGORIAN
METHOD:PUBLISH
BEGIN:VEVENT
UID:69e5eeaeb8a7f
DTSTAMP:20260420T091526Z
DTSTART:20250116
DTEND:20250117
LOCATION:
SUMMARY:Veneration of Apostle Peter's Precious Chains
DESCRIPTION:Saints\,  Feasts\,  and Readings for 01/16/2025 Saints and Feas
 ts: Veneration of Apostle Peter&#8217;s Precious Chains; Righteous Hierodea
 con Makarios of Kalogeras; Romilo the Monk of Mount Athos; Nicholas the New
 -Martyr of Mytilene; Peusippos\,  Elasippos\,  and Mesippos the siblings\, 
  and their grandmother Neonilla Epistle Reading: Acts 12:1-11 About that ti
 me\,  Herod the[..]\nhttps://saintandrewlubbock.com/events/veneration-of-ap
 ostle-peters-precious-chains-2/
URL:https://saintandrewlubbock.com/events/veneration-of-apostle-peters-precious-chains-2/
END:VEVENT
END:VCALENDAR