BEGIN:VCALENDAR
VERSION:2.0
PRODID:-//eventon.com NONSGML v1.0//EN
CALSCALE:GREGORIAN
METHOD:PUBLISH
BEGIN:VEVENT
UID:69e4ecc6bf4c4
DTSTAMP:20260419T145502Z
DTSTART:20250126
DTEND:20250127
LOCATION:
SUMMARY:15th Sunday of Luke
DESCRIPTION:Saints\,  Feasts\,  and Readings for 01/26/2025 Saints and Feas
 ts: 15th Sunday of Luke; Xenophon &#038; his Companions; Symeon the Elder o
 f Mount Sinai Matins Gospel Reading: John 20:19-31 On the evening of that d
 ay\,  the first day of the week\,  the doors being shut where the disciples
  were for fear[..]\nhttps://saintandrewlubbock.com/events/15th-sunday-of-lu
 ke-2/
URL:https://saintandrewlubbock.com/events/15th-sunday-of-luke-2/
END:VEVENT
END:VCALENDAR