BEGIN:VCALENDAR
VERSION:2.0
PRODID:-//eventon.com NONSGML v1.0//EN
CALSCALE:GREGORIAN
METHOD:PUBLISH
BEGIN:VEVENT
UID:69e6a581b562b
DTSTAMP:20260420T221529Z
DTSTART:20250201
DTEND:20250202
LOCATION:
SUMMARY:Trypho the Martyr
DESCRIPTION:Saints\,  Feasts\,  and Readings for 02/01/2025 Saints and Feas
 ts: Trypho the Martyr; Forefeast of the Presentation of Our Lord and Savior
  in the Temple; Perpetua &#038; her Companions; Our Holy Father Basil\,  Ar
 chbishop of Thessolonica; Anastasios the New Martyr of Navplion; The Four M
 artyrs Andrianus\,  Polyeuktos\,  Plato and George who[..]\nhttps://saintan
 drewlubbock.com/events/trypho-the-martyr-2/
URL:https://saintandrewlubbock.com/events/trypho-the-martyr-2/
END:VEVENT
END:VCALENDAR