BEGIN:VCALENDAR
VERSION:2.0
PRODID:-//eventon.com NONSGML v1.0//EN
CALSCALE:GREGORIAN
METHOD:PUBLISH
BEGIN:VEVENT
UID:69e7780d40a33
DTSTAMP:20260421T131349Z
DTSTART:20250208
DTEND:20250209
LOCATION:
SUMMARY:Theodore the Commander & Great Martyr
DESCRIPTION:Saints\,  Feasts\,  and Readings for 02/08/2025 Saints and Feas
 ts: Theodore the Commander &#038; Great Martyr; The Holy Prophet Zacharias 
 (Zachariah); Nicephoros &#038; Stephanos the Martyrs; Afterfeast of the Pre
 sentation of Our Lord and Savior in the Temple; Cuthman of Steyning Epistle
  Reading: Ephesians 2:4-10 Brethren\,  God who is rich in[..]\nhttps://sain
 tandrewlubbock.com/events/theodore-the-commander-great-martyr-2/
URL:https://saintandrewlubbock.com/events/theodore-the-commander-great-martyr-2/
END:VEVENT
END:VCALENDAR