BEGIN:VCALENDAR
VERSION:2.0
PRODID:-//eventon.com NONSGML v1.0//EN
CALSCALE:GREGORIAN
METHOD:PUBLISH
BEGIN:VEVENT
UID:69e9faae870e3
DTSTAMP:20260423T105542Z
DTSTART:20250225
DTEND:20250226
LOCATION:
SUMMARY:🧀 Tarasius\,  Patriarch of Constantinople
DESCRIPTION:Saints\,  Feasts\,  and Readings for 02/25/2025 Saints and Feas
 ts: Tarasius\,  Patriarch of Constantinople; Reginos\,  Bishop of Skopelos;
  Holy Martyr Alexander of Thrace; Markellos\,  Bishop of Apamea Fast Day (D
 airy\,  Eggs\,  and Fish Allowed) Epistle Reading: Jude 1:1-10 Jude\,  a se
 rvant of Jesus Christ\,  and brother of James\,  To those who[..]\nhttps://
 saintandrewlubbock.com/events/%f0%9f%a7%80-tarasius-patriarch-of-constantin
 ople/
URL:https://saintandrewlubbock.com/events/%f0%9f%a7%80-tarasius-patriarch-of-constantinople/
END:VEVENT
END:VCALENDAR