BEGIN:VCALENDAR
VERSION:2.0
PRODID:-//eventon.com NONSGML v1.0//EN
CALSCALE:GREGORIAN
METHOD:PUBLISH
BEGIN:VEVENT
UID:69e5384c07f54
DTSTAMP:20260419T201716Z
DTSTART:20250226
DTEND:20250227
LOCATION:
SUMMARY:🧀 Porphyrius\,  Bishop of Gaza
DESCRIPTION:Saints\,  Feasts\,  and Readings for 02/26/2025 Saints and Feas
 ts: Porphyrius\,  Bishop of Gaza; The Holy Great Martyr Photine\,  the Sama
 ritan Women; Holy Martyr Theocletus; John Claphas the new Martyr Fast Day (
 Dairy\,  Eggs\,  and Fish Allowed) Old Testament Reading: Joel 3:12-21 Let 
 the nations bestir themselves\,  and come up to[..]\nhttps://saintandrewlub
 bock.com/events/%f0%9f%a7%80-porphyrius-bishop-of-gaza/
URL:https://saintandrewlubbock.com/events/%f0%9f%a7%80-porphyrius-bishop-of-gaza/
END:VEVENT
END:VCALENDAR