BEGIN:VCALENDAR
VERSION:2.0
PRODID:-//eventon.com NONSGML v1.0//EN
CALSCALE:GREGORIAN
METHOD:PUBLISH
BEGIN:VEVENT
UID:69e7c98b659b4
DTSTAMP:20260421T190131Z
DTSTART:20241203
DTEND:20241204
LOCATION:
SUMMARY:🐟 The Holy Prophet Sophonias (Zephaniah)
DESCRIPTION:Saints\,  Feasts\,  and Readings for 12/03/2024 Saints and Feas
 ts: The Holy Prophet Sophonias (Zephaniah); Our Righteous Father John\,  Bi
 shop and Hesychast; Holy Martyrs Agapius and Seleucius; Theodore\,  Archbis
 hop of Alexandria; Angelis the New Martyr; Karpos the Hieromartyr Fast Day 
 (Fish Allowed) Epistle Reading: I Thessalonians 3:8-13 Brethren\,  if you s
 tand[..]\nhttps://saintandrewlubbock.com/events/%f0%9f%90%9f-the-holy-proph
 et-sophonias-zephaniah-2/
URL:https://saintandrewlubbock.com/events/%f0%9f%90%9f-the-holy-prophet-sophonias-zephaniah-2/
END:VEVENT
END:VCALENDAR