BEGIN:VCALENDAR
VERSION:2.0
PRODID:-//eventon.com NONSGML v1.0//EN
CALSCALE:GREGORIAN
METHOD:PUBLISH
BEGIN:VEVENT
UID:69e4dcc516604
DTSTAMP:20260419T134645Z
DTSTART:20250321
DTEND:20250322
LOCATION:
SUMMARY:☦️ James the Confessor
DESCRIPTION:Saints\,  Feasts\,  and Readings for 03/21/2025 Saints and Feas
 ts: James the Confessor; Thomas I\,  Patriarch of Constantinople; Philemon 
 and Domninos Strict Fast Old Testament Reading: Isaiah 13:2-13 On a bare hi
 ll raise a signal\,  cry aloud to them; wave the hand for them to enter the
  gates of the nobles.[..]\nhttps://saintandrewlubbock.com/events/%e2%98%a6%
 ef%b8%8f-james-the-confessor/
URL:https://saintandrewlubbock.com/events/%e2%98%a6%ef%b8%8f-james-the-confessor/
END:VEVENT
END:VCALENDAR