BEGIN:VCALENDAR
VERSION:2.0
PRODID:-//eventon.com NONSGML v1.0//EN
CALSCALE:GREGORIAN
METHOD:PUBLISH
BEGIN:VEVENT
UID:69e525b1b1f4e
DTSTAMP:20260419T185753Z
DTSTART:20250414
DTEND:20250415
LOCATION:
SUMMARY:☦️ Holy Monday
DESCRIPTION:Saints\,  Feasts\,  and Readings for 04/14/2025 Saints and Feas
 ts: Holy Monday; Aristarchus\,  Pudens\,  Trophimus the Apostles of the 70;
  Thomais the Martyr of Alexandria; Ardalion the Actor and Martyr; Demetrios
  the New-Martyr of Arcadia Strict Fast Gospel Reading: Matthew 21:18-43 At 
 that time\,  as Jesus was returning to the city\, [..]\nhttps://saintandrew
 lubbock.com/events/%e2%98%a6%ef%b8%8f-holy-monday/
URL:https://saintandrewlubbock.com/events/%e2%98%a6%ef%b8%8f-holy-monday/
END:VEVENT
END:VCALENDAR