BEGIN:VCALENDAR
VERSION:2.0
PRODID:-//eventon.com NONSGML v1.0//EN
CALSCALE:GREGORIAN
METHOD:PUBLISH
BEGIN:VEVENT
UID:69ed721001e7c
DTSTAMP:20260426T020152Z
DTSTART:20250426
DTEND:20250427
LOCATION:
SUMMARY:Renewal Saturday
DESCRIPTION:Saints\,  Feasts\,  and Readings for 04/26/2025 Saints and Feas
 ts: Renewal Saturday; Basil the Holy Martyr Bishop of Amasea; Glaphyra the 
 Righteous; Justa the Nun Fast Free Epistle Reading: Acts 3:11-16 In those d
 ays\,  while the healed lame man clung to Peter and John\,  all the people 
 ran together to them[..]\nhttps://saintandrewlubbock.com/events/renewal-sat
 urday-2/
URL:https://saintandrewlubbock.com/events/renewal-saturday-2/
END:VEVENT
END:VCALENDAR