BEGIN:VCALENDAR
VERSION:2.0
PRODID:-//eventon.com NONSGML v1.0//EN
CALSCALE:GREGORIAN
METHOD:PUBLISH
BEGIN:VEVENT
UID:69e632981ac12
DTSTAMP:20260420T140512Z
DTSTART:20250525
DTEND:20250526
LOCATION:
SUMMARY:Sunday of the Blind Man
DESCRIPTION:Saints\,  Feasts\,  and Readings for 05/25/2025 Saints and Feas
 ts: Sunday of the Blind Man; Third Finding of the Precious Head of St. John
  the Baptist; Therapon the Hieromartyr\,  Bishop of Cyprus; Finding of the 
 Icon of St. Demetrios the Great-Martyr and Myrrh-Streamer on Syros; Aldhelm
 \,  Bishop of Sherborne Matins Gospel[..]\nhttps://saintandrewlubbock.com/e
 vents/sunday-of-the-blind-man-2/
URL:https://saintandrewlubbock.com/events/sunday-of-the-blind-man-2/
END:VEVENT
END:VCALENDAR