BEGIN:VCALENDAR
VERSION:2.0
PRODID:-//eventon.com NONSGML v1.0//EN
CALSCALE:GREGORIAN
METHOD:PUBLISH
BEGIN:VEVENT
UID:69ece6d2c4239
DTSTAMP:20260425T160746Z
DTSTART:20250607
DTEND:20250608
LOCATION:
SUMMARY:The Saturday of Souls
DESCRIPTION:Saints\,  Feasts\,  and Readings for 06/07/2025 Saints and Feas
 ts: The Saturday of Souls; The Holy Martyr Theodotus of Ancyra; Our Righteo
 us Father Panagis (Paisios) Basias; Tarasios &#038; John the Martyrs; Sebas
 tian the Wonderworker; Zenais the Martyr Epistle Reading: I Thessalonians 4
 :13-17 But we would not have you ignorant\,  brethren\,  concerning[..]\nht
 tps://saintandrewlubbock.com/events/the-saturday-of-souls-2/
URL:https://saintandrewlubbock.com/events/the-saturday-of-souls-2/
END:VEVENT
END:VCALENDAR