BEGIN:VCALENDAR
VERSION:2.0
PRODID:-//eventon.com NONSGML v1.0//EN
CALSCALE:GREGORIAN
METHOD:PUBLISH
BEGIN:VEVENT
UID:69e7ed3486488
DTSTAMP:20260421T213340Z
DTSTART:20250623
DTEND:20250624
LOCATION:
SUMMARY:🐟 Agrippina the Martyr of Rome
DESCRIPTION:Saints\,  Feasts\,  and Readings for 06/23/2025 Saints and Feas
 ts: Agrippina the Martyr of Rome; Holy Martyrs Aristocleus the Priest\,  De
 metrius the Deacon and Athanasius the Reader; The Holy New Bishop Martyrs G
 erasimus of Crete\,  Neophytos of Knossos\,  Joachim of Cherronisos\,  Hier
 otheos of Lampi\,  Zachariah of Sitia\,  Joachim of Petra\,  Gerasimos[..]\
 nhttps://saintandrewlubbock.com/events/%f0%9f%90%9f-agrippina-the-martyr-of
 -rome/
URL:https://saintandrewlubbock.com/events/%f0%9f%90%9f-agrippina-the-martyr-of-rome/
END:VEVENT
END:VCALENDAR