BEGIN:VCALENDAR
VERSION:2.0
PRODID:-//eventon.com NONSGML v1.0//EN
CALSCALE:GREGORIAN
METHOD:PUBLISH
BEGIN:VEVENT
UID:69eae9f60d1d2
DTSTAMP:20260424T035638Z
DTSTART:20250626
DTEND:20250627
LOCATION:
SUMMARY:🐟 David the Righteous of Thessalonika
DESCRIPTION:Saints\,  Feasts\,  and Readings for 06/26/2025 Saints and Feas
 ts: David the Righteous of Thessalonika; Appearance of the Icon of Our Most
  Holy Lady the Theotokos of Tikhvin Fast Day (Fish Allowed) Epistle Reading
 : Romans 8:22-27 Brethren\,  we know that the whole creation has been groan
 ing in travail together until now;[..]\nhttps://saintandrewlubbock.com/even
 ts/%f0%9f%90%9f-david-the-righteous-of-thessalonika/
URL:https://saintandrewlubbock.com/events/%f0%9f%90%9f-david-the-righteous-of-thessalonika/
END:VEVENT
END:VCALENDAR