BEGIN:VCALENDAR
VERSION:2.0
PRODID:-//eventon.com NONSGML v1.0//EN
CALSCALE:GREGORIAN
METHOD:PUBLISH
BEGIN:VEVENT
UID:69ebeec870eb9
DTSTAMP:20260424T222928Z
DTSTART:20250705
DTEND:20250706
LOCATION:
SUMMARY:Athanasius of Mount Athos
DESCRIPTION:Saints\,  Feasts\,  and Readings for 07/05/2025 Saints and Feas
 ts: Athanasius of Mount Athos; Righteous Father Lampadus the Wonderworker; 
 Kyprianos the New Martyr of Koutloumousiou Monastery; Uncovering of the Hol
 y Relics of Our Righteous Father Sergius of Radonezh Epistle Reading: Galat
 ians 5:22-26;6:1-2 Brethren\,  the fruit of the Spirit is love\,  joy\, [..
 ]\nhttps://saintandrewlubbock.com/events/athanasius-of-mount-athos-2/
URL:https://saintandrewlubbock.com/events/athanasius-of-mount-athos-2/
END:VEVENT
END:VCALENDAR