BEGIN:VCALENDAR
VERSION:2.0
PRODID:-//eventon.com NONSGML v1.0//EN
CALSCALE:GREGORIAN
METHOD:PUBLISH
BEGIN:VEVENT
UID:69eae259666b2
DTSTAMP:20260424T032409Z
DTSTART:20250709
DTEND:20250710
LOCATION:
SUMMARY:☦️ The Holy Hieromartyr Pancratius\,  Bishop of Tauromenium in Sicily
DESCRIPTION:Saints\,  Feasts\,  and Readings for 07/09/2025 Saints and Feas
 ts: The Holy Hieromartyr Pancratius\,  Bishop of Tauromenium in Sicily; Dio
 nysios the Orator; Metrophanes of Mount Athos; Methodios the Hieromartyr\, 
  Bishop of Lampis; Patermuthius the Monk; Euthymios of Karelia; Michael Pak
 nanas the Gardener Strict Fast Epistle Reading: Romans 15:7-16 Brethren\,  
 welcome one[..]\nhttps://saintandrewlubbock.com/events/%e2%98%a6%ef%b8%8f-t
 he-holy-hieromartyr-pancratius-bishop-of-tauromenium-in-sicily/
URL:https://saintandrewlubbock.com/events/%e2%98%a6%ef%b8%8f-the-holy-hieromartyr-pancratius-bishop-of-tauromenium-in-sicily/
END:VEVENT
END:VCALENDAR