BEGIN:VCALENDAR
VERSION:2.0
PRODID:-//eventon.com NONSGML v1.0//EN
CALSCALE:GREGORIAN
METHOD:PUBLISH
BEGIN:VEVENT
UID:69e8591b76136
DTSTAMP:20260422T051403Z
DTSTART:20250710
DTEND:20250711
LOCATION:
SUMMARY:45 Holy Martyrs of Nikopolis\,  Armenia
DESCRIPTION:Saints\,  Feasts\,  and Readings for 07/10/2025 Saints and Feas
 ts: 45 Holy Martyrs of Nikopolis\,  Armenia; Our Holy Father Gregory\,  Bis
 hop of Assa; Parthenios and Eumenios of Koudoumas; 10\, 000 Fathers martyre
 d in Egypt; Apollonios the Martyr; Deposition of the Precious Robe of Our L
 ord Jesus Christ in Moscow; Righteous Father Anthony[..]\nhttps://saintandr
 ewlubbock.com/events/45-holy-martyrs-of-nikopolis-armenia-2/
URL:https://saintandrewlubbock.com/events/45-holy-martyrs-of-nikopolis-armenia-2/
END:VEVENT
END:VCALENDAR