BEGIN:VCALENDAR
VERSION:2.0
PRODID:-//eventon.com NONSGML v1.0//EN
CALSCALE:GREGORIAN
METHOD:PUBLISH
BEGIN:VEVENT
UID:69e7e16ea3a24
DTSTAMP:20260421T204326Z
DTSTART:20250713
DTEND:20250714
LOCATION:
SUMMARY:Sunday of the Holy Fathers of the 4th Ecumenical Council
DESCRIPTION:Saints\,  Feasts\,  and Readings for 07/13/2025 Saints and Feas
 ts: Sunday of the Holy Fathers of the 4th Ecumenical Council; Synaxis of Ar
 changel Gabriel; Stephen of Mar Sabbas Monastery; Holy Martyr Golinduc; Mar
 cian the Martyr of Iconium; Serapion the Martyr Matins Gospel Reading: Luke
  24:12-35 At that time\,  [Peter rose and[..]\nhttps://saintandrewlubbock.c
 om/events/sunday-of-the-holy-fathers-of-the-4th-ecumenical-council-2/
URL:https://saintandrewlubbock.com/events/sunday-of-the-holy-fathers-of-the-4th-ecumenical-council-2/
END:VEVENT
END:VCALENDAR