BEGIN:VCALENDAR
VERSION:2.0
PRODID:-//eventon.com NONSGML v1.0//EN
CALSCALE:GREGORIAN
METHOD:PUBLISH
BEGIN:VEVENT
UID:69e664395ac25
DTSTAMP:20260420T173657Z
DTSTART:20250723
DTEND:20250724
LOCATION:
SUMMARY:☦️ Phocas the Holy Martyr\,  Bishop of Sinope
DESCRIPTION:Saints\,  Feasts\,  and Readings for 07/23/2025 Saints and Feas
 ts: Phocas the Holy Martyr\,  Bishop of Sinope; Ezekiel the Prophet; Pelagi
 a the Righteous of Tinos; Trophimos &#038; Theophilios and the 13 others ma
 rtyred in Lycia; St. Anna of Levkadio; The Icons of the Most Holy Theotokos
  of Pochaev; Icon of the[..]\nhttps://saintandrewlubbock.com/events/%e2%98%
 a6%ef%b8%8f-phocas-the-holy-martyr-bishop-of-sinope/
URL:https://saintandrewlubbock.com/events/%e2%98%a6%ef%b8%8f-phocas-the-holy-martyr-bishop-of-sinope/
END:VEVENT
END:VCALENDAR