BEGIN:VCALENDAR
VERSION:2.0
PRODID:-//eventon.com NONSGML v1.0//EN
CALSCALE:GREGORIAN
METHOD:PUBLISH
BEGIN:VEVENT
UID:69eaae07a7fc3
DTSTAMP:20260423T234055Z
DTSTART:20250725
DTEND:20250726
LOCATION:
SUMMARY:🍇 Dormition of St. Anna\,  mother of the Theotokos
DESCRIPTION:Saints\,  Feasts\,  and Readings for 07/25/2025 Saints and Feas
 ts: Dormition of St. Anna\,  mother of the Theotokos; Olympias the Deacones
 s; Eupraxia &#038; Julia the Righteous of Tabenna; Gregory Kallidis\,  Metr
 opolitan of Heraclea; Memory of the Fifth Ecumenical Council in Constantino
 ple (553) Fast Day (Wine and Oil Allowed) Epistle Reading: Galatians[..]\nh
 ttps://saintandrewlubbock.com/events/%f0%9f%8d%87-dormition-of-st-anna-moth
 er-of-the-theotokos/
URL:https://saintandrewlubbock.com/events/%f0%9f%8d%87-dormition-of-st-anna-mother-of-the-theotokos/
END:VEVENT
END:VCALENDAR