BEGIN:VCALENDAR
VERSION:2.0
PRODID:-//eventon.com NONSGML v1.0//EN
CALSCALE:GREGORIAN
METHOD:PUBLISH
BEGIN:VEVENT
UID:69e718af4bbf6
DTSTAMP:20260421T062655Z
DTSTART:20250726
DTEND:20250727
LOCATION:
SUMMARY:Paraskeve the Righteous Martyr of Rome
DESCRIPTION:Saints\,  Feasts\,  and Readings for 07/26/2025 Saints and Feas
 ts: Paraskeve the Righteous Martyr of Rome; The Holy Hieromartyrs Hermolaus
 \,  Hermippus\,  and Hermocrates; Prisca the Righteous Martyr; Moses the Hu
 ngarian; Jacob Netsvetov the Enlightener of Alaska Epistle Reading: Galatia
 ns 3:23-29;4:1-5 Brethren\,  before faith came\,  we were confined under th
 e law\,  kept[..]\nhttps://saintandrewlubbock.com/events/paraskeve-the-righ
 teous-martyr-of-rome-2/
URL:https://saintandrewlubbock.com/events/paraskeve-the-righteous-martyr-of-rome-2/
END:VEVENT
END:VCALENDAR