BEGIN:VCALENDAR
VERSION:2.0
PRODID:-//eventon.com NONSGML v1.0//EN
CALSCALE:GREGORIAN
METHOD:PUBLISH
BEGIN:VEVENT
UID:69eca5cfdaa7b
DTSTAMP:20260425T113023Z
DTSTART:20250729
DTEND:20250730
LOCATION:
SUMMARY:The Holy Martyr Callinicus
DESCRIPTION:Saints\,  Feasts\,  and Readings for 07/29/2025 Saints and Feas
 ts: The Holy Martyr Callinicus; Theodota the Martyr and her Children; Const
 antine III\,  Patriarch of Constantinople; Pious King Theodosius the New; H
 oly Virgin Martyr Theodota; Seraphima the Virgin-martyr of Antioch; Olaf of
  Norway Epistle Reading: I Corinthians 10:5-12 Brethren\,  God was not[..]\
 nhttps://saintandrewlubbock.com/events/the-holy-martyr-callinicus-2/
URL:https://saintandrewlubbock.com/events/the-holy-martyr-callinicus-2/
END:VEVENT
END:VCALENDAR