BEGIN:VCALENDAR
VERSION:2.0
PRODID:-//eventon.com NONSGML v1.0//EN
CALSCALE:GREGORIAN
METHOD:PUBLISH
BEGIN:VEVENT
UID:69e74d7e77049
DTSTAMP:20260421T101214Z
DTSTART:20250817
DTEND:20250818
LOCATION:
SUMMARY:10th Sunday of Matthew
DESCRIPTION:Saints\,  Feasts\,  and Readings for 08/17/2025 Saints and Feas
 ts: 10th Sunday of Matthew; Myron the Martyr of Cyzicus; Straton\,  Philip\
 ,  Eutychian\,  &#038; Cyprian the Martyrs of Nicomedea; Afterfeast of the 
 Dormition of our Most Holy Lady the Theotokos and Ever Virgin Mary; Demetri
 os the New\,  Righteous-Martyr of Samaria; Eutychios\,  Eutychianos[..]\nht
 tps://saintandrewlubbock.com/events/10th-sunday-of-matthew/
URL:https://saintandrewlubbock.com/events/10th-sunday-of-matthew/
END:VEVENT
END:VCALENDAR